BEGIN:VCALENDAR
VERSION:2.0
PRODID:-//RCCG Rehoboth Centre Beckenham - ECPv6.0.13.1//NONSGML v1.0//EN
CALSCALE:GREGORIAN
METHOD:PUBLISH
X-ORIGINAL-URL:http://rehobothcentrebeckenham.org.uk
X-WR-CALDESC:Events for RCCG Rehoboth Centre Beckenham
REFRESH-INTERVAL;VALUE=DURATION:PT1H
X-Robots-Tag:noindex
X-PUBLISHED-TTL:PT1H
BEGIN:VTIMEZONE
TZID:UTC
BEGIN:STANDARD
TZOFFSETFROM:+0000
TZOFFSETTO:+0000
TZNAME:UTC
DTSTART:20210101T000000
END:STANDARD
END:VTIMEZONE
BEGIN:VEVENT
DTSTART;TZID=UTC:20211107T103000
DTEND;TZID=UTC:20211107T114500
DTSTAMP:20260426T014115
CREATED:20151211T230852Z
LAST-MODIFIED:20151211T230852Z
UID:23814-1636281000-1636285500@rehobothcentrebeckenham.org.uk
SUMMARY:Sunday Service
DESCRIPTION:This service is a wonderful time for everyone to come together in fellowship on a Sunday. It is open to everyone and an awesome opportunity for people to come together as a family to be refreshed in the presence of The Lord for the coming week.
URL:http://rehobothcentrebeckenham.org.uk/event/sunday-service-2021-11-07/
LOCATION:J J Dance Studio\, J J Dance Studio\, 182b High Street\, Beckenham\, London\, BR3 1EW\, United Kingdom
CATEGORIES:School,Sunday Service
ATTACH;FMTTYPE=image/jpeg:http://rehobothcentrebeckenham.org.uk/wp-content/uploads/2015/12/Easter-Cross.jpg
ORGANIZER;CN="RCCG%20Inner%20Court":MAILTO:info@innercourt.org.uk
END:VEVENT
BEGIN:VEVENT
DTSTART;TZID=UTC:20211114T103000
DTEND;TZID=UTC:20211115T003000
DTSTAMP:20260426T014115
CREATED:20151211T230852Z
LAST-MODIFIED:20210731T143504Z
UID:23816-1636885800-1636936200@rehobothcentrebeckenham.org.uk
SUMMARY:Sunday Service
DESCRIPTION:This service is a wonderful time for everyone to come together in fellowship on a Sunday. It is open to everyone and an awesome opportunity for people to come together as a family to be refreshed in the presence of The Lord for the coming week.
URL:http://rehobothcentrebeckenham.org.uk/event/sunday-service-2021-11-14/
LOCATION:J J Dance Studio\, J J Dance Studio\, 182b High Street\, Beckenham\, London\, BR3 1EW\, United Kingdom
CATEGORIES:School,Sunday Service
ATTACH;FMTTYPE=image/jpeg:http://rehobothcentrebeckenham.org.uk/wp-content/uploads/2015/12/Easter-Cross.jpg
ORGANIZER;CN="RCCG%20Inner%20Court":MAILTO:info@innercourt.org.uk
END:VEVENT
BEGIN:VEVENT
DTSTART;TZID=UTC:20211121T103000
DTEND;TZID=UTC:20211121T121500
DTSTAMP:20260426T014115
CREATED:20151211T230852Z
LAST-MODIFIED:20200911T201346Z
UID:23818-1637490600-1637496900@rehobothcentrebeckenham.org.uk
SUMMARY:Sunday Service
DESCRIPTION:This service is a wonderful time for everyone to come together in fellowship on a Sunday. It is open to everyone and an awesome opportunity for people to come together as a family to be refreshed in the presence of The Lord for the coming week.
URL:http://rehobothcentrebeckenham.org.uk/event/sunday-service-2021-11-21/
LOCATION:J J Dance Studio\, J J Dance Studio\, 182b High Street\, Beckenham\, London\, BR3 1EW\, United Kingdom
CATEGORIES:School,Sunday Service
ATTACH;FMTTYPE=image/jpeg:http://rehobothcentrebeckenham.org.uk/wp-content/uploads/2015/12/Easter-Cross.jpg
ORGANIZER;CN="RCCG%20Inner%20Court":MAILTO:info@innercourt.org.uk
END:VEVENT
BEGIN:VEVENT
DTSTART;TZID=UTC:20211128T103000
DTEND;TZID=UTC:20211128T123000
DTSTAMP:20260426T014115
CREATED:20151211T230852Z
LAST-MODIFIED:20210731T151245Z
UID:23820-1638095400-1638102600@rehobothcentrebeckenham.org.uk
SUMMARY:Sunday Service
DESCRIPTION:This service is a wonderful time for everyone to come together in fellowship on a Sunday. It is open to everyone and an awesome opportunity for people to come together as a family to be refreshed in the presence of The Lord for the coming week.
URL:http://rehobothcentrebeckenham.org.uk/event/sunday-service-2021-11-28/
LOCATION:J J Dance Studio\, J J Dance Studio\, 182b High Street\, Beckenham\, London\, BR3 1EW\, United Kingdom
CATEGORIES:School,Sunday Service
ATTACH;FMTTYPE=image/jpeg:http://rehobothcentrebeckenham.org.uk/wp-content/uploads/2015/12/Easter-Cross.jpg
ORGANIZER;CN="RCCG%20Inner%20Court":MAILTO:info@innercourt.org.uk
END:VEVENT
END:VCALENDAR