BEGIN:VCALENDAR
VERSION:2.0
PRODID:-//RCCG Rehoboth Centre Beckenham - ECPv6.0.13.1//NONSGML v1.0//EN
CALSCALE:GREGORIAN
METHOD:PUBLISH
X-WR-CALNAME:RCCG Rehoboth Centre Beckenham
X-ORIGINAL-URL:http://rehobothcentrebeckenham.org.uk
X-WR-CALDESC:Events for RCCG Rehoboth Centre Beckenham
REFRESH-INTERVAL;VALUE=DURATION:PT1H
X-Robots-Tag:noindex
X-PUBLISHED-TTL:PT1H
BEGIN:VTIMEZONE
TZID:UTC
BEGIN:STANDARD
TZOFFSETFROM:+0000
TZOFFSETTO:+0000
TZNAME:UTC
DTSTART:20210101T000000
END:STANDARD
END:VTIMEZONE
BEGIN:VEVENT
DTSTART;TZID=UTC:20210905T103000
DTEND;TZID=UTC:20210905T114500
DTSTAMP:20260426T043459
CREATED:20151211T230852Z
LAST-MODIFIED:20151211T230852Z
UID:23796-1630837800-1630842300@rehobothcentrebeckenham.org.uk
SUMMARY:Sunday Service
DESCRIPTION:This service is a wonderful time for everyone to come together in fellowship on a Sunday. It is open to everyone and an awesome opportunity for people to come together as a family to be refreshed in the presence of The Lord for the coming week.
URL:http://rehobothcentrebeckenham.org.uk/event/sunday-service-2021-09-05/
LOCATION:J J Dance Studio\, J J Dance Studio\, 182b High Street\, Beckenham\, London\, BR3 1EW\, United Kingdom
CATEGORIES:School,Sunday Service
ATTACH;FMTTYPE=image/jpeg:http://rehobothcentrebeckenham.org.uk/wp-content/uploads/2015/12/Easter-Cross.jpg
ORGANIZER;CN="RCCG%20Inner%20Court":MAILTO:info@innercourt.org.uk
END:VEVENT
BEGIN:VEVENT
DTSTART;TZID=UTC:20210912T103000
DTEND;TZID=UTC:20210912T114500
DTSTAMP:20260426T043459
CREATED:20151211T230852Z
LAST-MODIFIED:20151211T230852Z
UID:23798-1631442600-1631447100@rehobothcentrebeckenham.org.uk
SUMMARY:Sunday Service
DESCRIPTION:This service is a wonderful time for everyone to come together in fellowship on a Sunday. It is open to everyone and an awesome opportunity for people to come together as a family to be refreshed in the presence of The Lord for the coming week.
URL:http://rehobothcentrebeckenham.org.uk/event/sunday-service-2021-09-12/
LOCATION:J J Dance Studio\, J J Dance Studio\, 182b High Street\, Beckenham\, London\, BR3 1EW\, United Kingdom
CATEGORIES:School,Sunday Service
ATTACH;FMTTYPE=image/jpeg:http://rehobothcentrebeckenham.org.uk/wp-content/uploads/2015/12/Easter-Cross.jpg
ORGANIZER;CN="RCCG%20Inner%20Court":MAILTO:info@innercourt.org.uk
END:VEVENT
BEGIN:VEVENT
DTSTART;TZID=UTC:20210919T103000
DTEND;TZID=UTC:20210919T114500
DTSTAMP:20260426T043459
CREATED:20151211T230852Z
LAST-MODIFIED:20151211T230852Z
UID:23800-1632047400-1632051900@rehobothcentrebeckenham.org.uk
SUMMARY:Sunday Service
DESCRIPTION:This service is a wonderful time for everyone to come together in fellowship on a Sunday. It is open to everyone and an awesome opportunity for people to come together as a family to be refreshed in the presence of The Lord for the coming week.
URL:http://rehobothcentrebeckenham.org.uk/event/sunday-service-2021-09-19/
LOCATION:J J Dance Studio\, J J Dance Studio\, 182b High Street\, Beckenham\, London\, BR3 1EW\, United Kingdom
CATEGORIES:School,Sunday Service
ATTACH;FMTTYPE=image/jpeg:http://rehobothcentrebeckenham.org.uk/wp-content/uploads/2015/12/Easter-Cross.jpg
ORGANIZER;CN="RCCG%20Inner%20Court":MAILTO:info@innercourt.org.uk
END:VEVENT
BEGIN:VEVENT
DTSTART;TZID=UTC:20210926T103000
DTEND;TZID=UTC:20210926T114500
DTSTAMP:20260426T043459
CREATED:20151211T230852Z
LAST-MODIFIED:20151211T230852Z
UID:23802-1632652200-1632656700@rehobothcentrebeckenham.org.uk
SUMMARY:Sunday Service
DESCRIPTION:This service is a wonderful time for everyone to come together in fellowship on a Sunday. It is open to everyone and an awesome opportunity for people to come together as a family to be refreshed in the presence of The Lord for the coming week.
URL:http://rehobothcentrebeckenham.org.uk/event/sunday-service-2021-09-26/
LOCATION:J J Dance Studio\, J J Dance Studio\, 182b High Street\, Beckenham\, London\, BR3 1EW\, United Kingdom
CATEGORIES:School,Sunday Service
ATTACH;FMTTYPE=image/jpeg:http://rehobothcentrebeckenham.org.uk/wp-content/uploads/2015/12/Easter-Cross.jpg
ORGANIZER;CN="RCCG%20Inner%20Court":MAILTO:info@innercourt.org.uk
END:VEVENT
END:VCALENDAR