BEGIN:VCALENDAR
VERSION:2.0
PRODID:-//RCCG Rehoboth Centre Beckenham - ECPv6.0.13.1//NONSGML v1.0//EN
CALSCALE:GREGORIAN
METHOD:PUBLISH
X-WR-CALNAME:RCCG Rehoboth Centre Beckenham
X-ORIGINAL-URL:http://rehobothcentrebeckenham.org.uk
X-WR-CALDESC:Events for RCCG Rehoboth Centre Beckenham
REFRESH-INTERVAL;VALUE=DURATION:PT1H
X-Robots-Tag:noindex
X-PUBLISHED-TTL:PT1H
BEGIN:VTIMEZONE
TZID:UTC
BEGIN:STANDARD
TZOFFSETFROM:+0000
TZOFFSETTO:+0000
TZNAME:UTC
DTSTART:20150101T000000
END:STANDARD
END:VTIMEZONE
BEGIN:VEVENT
DTSTART;TZID=UTC:20180114T103000
DTEND;TZID=UTC:20180114T114500
DTSTAMP:20260424T113505
CREATED:20151211T230852Z
LAST-MODIFIED:20151211T230852Z
UID:23080-1515925800-1515930300@rehobothcentrebeckenham.org.uk
SUMMARY:Sunday Service
DESCRIPTION:This service is a wonderful time for everyone to come together in fellowship on a Sunday. It is open to everyone and an awesome opportunity for people to come together as a family to be refreshed in the presence of The Lord for the coming week.
URL:http://rehobothcentrebeckenham.org.uk/event/sunday-service-2018-01-14/
LOCATION:J J Dance Studio\, J J Dance Studio\, 182b High Street\, Beckenham\, London\, BR3 1EW\, United Kingdom
CATEGORIES:School,Sunday Service
ATTACH;FMTTYPE=image/jpeg:http://rehobothcentrebeckenham.org.uk/wp-content/uploads/2015/12/Easter-Cross.jpg
ORGANIZER;CN="RCCG%20Inner%20Court":MAILTO:info@innercourt.org.uk
END:VEVENT
BEGIN:VEVENT
DTSTART;TZID=UTC:20180110T190000
DTEND;TZID=UTC:20180110T200000
DTSTAMP:20260424T113505
CREATED:20151213T224453Z
LAST-MODIFIED:20151213T224453Z
UID:22951-1515610800-1515614400@rehobothcentrebeckenham.org.uk
SUMMARY:Bible Study & Prayer Meeting
DESCRIPTION:As the name suggests; our Bible study class is a school studying topical issues from the Bible with relevance to modern Christian living. Foundational and advanced issues are discussed weekly. We also come together to agree in the place of prayer on personal and community issues. We seek the face of God at these meetings and are blessed with mind blowing testimonies.
URL:http://rehobothcentrebeckenham.org.uk/event/bible-study-prayer-meeting-2018-01-10/
LOCATION:HSBC Sports and Social Club\, HSBC Sports and Social Club\, Lennard Road\, Beckenham\, London\, BR3 1QW\, United Kingdom
CATEGORIES:Bible Study,Intercession
ATTACH;FMTTYPE=image/jpeg:http://rehobothcentrebeckenham.org.uk/wp-content/uploads/2015/12/reading-bible.jpg
ORGANIZER;CN="RCCG%20Inner%20Court":MAILTO:info@innercourt.org.uk
END:VEVENT
BEGIN:VEVENT
DTSTART;TZID=UTC:20180107T103000
DTEND;TZID=UTC:20180107T114500
DTSTAMP:20260424T113505
CREATED:20151211T230852Z
LAST-MODIFIED:20151211T230852Z
UID:23079-1515321000-1515325500@rehobothcentrebeckenham.org.uk
SUMMARY:Sunday Service
DESCRIPTION:This service is a wonderful time for everyone to come together in fellowship on a Sunday. It is open to everyone and an awesome opportunity for people to come together as a family to be refreshed in the presence of The Lord for the coming week.
URL:http://rehobothcentrebeckenham.org.uk/event/sunday-service-2018-01-07/
LOCATION:J J Dance Studio\, J J Dance Studio\, 182b High Street\, Beckenham\, London\, BR3 1EW\, United Kingdom
CATEGORIES:School,Sunday Service
ATTACH;FMTTYPE=image/jpeg:http://rehobothcentrebeckenham.org.uk/wp-content/uploads/2015/12/Easter-Cross.jpg
ORGANIZER;CN="RCCG%20Inner%20Court":MAILTO:info@innercourt.org.uk
END:VEVENT
BEGIN:VEVENT
DTSTART;TZID=UTC:20180103T190000
DTEND;TZID=UTC:20180103T200000
DTSTAMP:20260424T113505
CREATED:20151213T224453Z
LAST-MODIFIED:20151213T224453Z
UID:22949-1515006000-1515009600@rehobothcentrebeckenham.org.uk
SUMMARY:Bible Study & Prayer Meeting
DESCRIPTION:As the name suggests; our Bible study class is a school studying topical issues from the Bible with relevance to modern Christian living. Foundational and advanced issues are discussed weekly. We also come together to agree in the place of prayer on personal and community issues. We seek the face of God at these meetings and are blessed with mind blowing testimonies.
URL:http://rehobothcentrebeckenham.org.uk/event/bible-study-prayer-meeting-2018-01-03/
LOCATION:HSBC Sports and Social Club\, HSBC Sports and Social Club\, Lennard Road\, Beckenham\, London\, BR3 1QW\, United Kingdom
CATEGORIES:Bible Study,Intercession
ATTACH;FMTTYPE=image/jpeg:http://rehobothcentrebeckenham.org.uk/wp-content/uploads/2015/12/reading-bible.jpg
ORGANIZER;CN="RCCG%20Inner%20Court":MAILTO:info@innercourt.org.uk
END:VEVENT
BEGIN:VEVENT
DTSTART;TZID=UTC:20171231T220000
DTEND;TZID=UTC:20180101T001500
DTSTAMP:20260424T113505
CREATED:20151230T004118Z
LAST-MODIFIED:20171229T173625Z
UID:22944-1514757600-1514765700@rehobothcentrebeckenham.org.uk
SUMMARY:Crossover Service Prayers\, Worship and Sharing the word
DESCRIPTION:A watch-night service held late on New Year’s Eve\, and ends after midnight. This provides the opportunity for everyone to review the year that has passed and make confession\, and then prepare for the year ahead by praying and resolving. The services include praise\, worship\, prayer and preaching. \nPlease\, if you need assistance getting to the venue\, please do not hesitate to contact us.
URL:http://rehobothcentrebeckenham.org.uk/event/crossover-night-praise-and-prayers/
LOCATION:St. Paul’s Church (Church of England)\, Brackley Road\, Beckenham\, BR3 1RB\, United Kingdom
CATEGORIES:Special Service
ORGANIZER;CN="RCCG%20Inner%20Court":MAILTO:info@innercourt.org.uk
END:VEVENT
BEGIN:VEVENT
DTSTART;TZID=UTC:20171231T103000
DTEND;TZID=UTC:20171231T114500
DTSTAMP:20260424T113505
CREATED:20151211T230852Z
LAST-MODIFIED:20151211T230852Z
UID:23078-1514716200-1514720700@rehobothcentrebeckenham.org.uk
SUMMARY:Sunday Service
DESCRIPTION:This service is a wonderful time for everyone to come together in fellowship on a Sunday. It is open to everyone and an awesome opportunity for people to come together as a family to be refreshed in the presence of The Lord for the coming week.
URL:http://rehobothcentrebeckenham.org.uk/event/sunday-service-2017-12-31/
LOCATION:J J Dance Studio\, J J Dance Studio\, 182b High Street\, Beckenham\, London\, BR3 1EW\, United Kingdom
CATEGORIES:School,Sunday Service
ATTACH;FMTTYPE=image/jpeg:http://rehobothcentrebeckenham.org.uk/wp-content/uploads/2015/12/Easter-Cross.jpg
ORGANIZER;CN="RCCG%20Inner%20Court":MAILTO:info@innercourt.org.uk
END:VEVENT
BEGIN:VEVENT
DTSTART;TZID=UTC:20171227T190000
DTEND;TZID=UTC:20171227T200000
DTSTAMP:20260424T113505
CREATED:20151213T224453Z
LAST-MODIFIED:20151213T224453Z
UID:22942-1514401200-1514404800@rehobothcentrebeckenham.org.uk
SUMMARY:Bible Study & Prayer Meeting
DESCRIPTION:As the name suggests; our Bible study class is a school studying topical issues from the Bible with relevance to modern Christian living. Foundational and advanced issues are discussed weekly. We also come together to agree in the place of prayer on personal and community issues. We seek the face of God at these meetings and are blessed with mind blowing testimonies.
URL:http://rehobothcentrebeckenham.org.uk/event/bible-study-prayer-meeting-2017-12-27/
LOCATION:HSBC Sports and Social Club\, HSBC Sports and Social Club\, Lennard Road\, Beckenham\, London\, BR3 1QW\, United Kingdom
CATEGORIES:Bible Study,Intercession
ATTACH;FMTTYPE=image/jpeg:http://rehobothcentrebeckenham.org.uk/wp-content/uploads/2015/12/reading-bible.jpg
ORGANIZER;CN="RCCG%20Inner%20Court":MAILTO:info@innercourt.org.uk
END:VEVENT
BEGIN:VEVENT
DTSTART;TZID=UTC:20171224T103000
DTEND;TZID=UTC:20171224T114500
DTSTAMP:20260424T113505
CREATED:20151211T230852Z
LAST-MODIFIED:20151211T230852Z
UID:23077-1514111400-1514115900@rehobothcentrebeckenham.org.uk
SUMMARY:Sunday Service
DESCRIPTION:This service is a wonderful time for everyone to come together in fellowship on a Sunday. It is open to everyone and an awesome opportunity for people to come together as a family to be refreshed in the presence of The Lord for the coming week.
URL:http://rehobothcentrebeckenham.org.uk/event/sunday-service-2017-12-24/
LOCATION:J J Dance Studio\, J J Dance Studio\, 182b High Street\, Beckenham\, London\, BR3 1EW\, United Kingdom
CATEGORIES:School,Sunday Service
ATTACH;FMTTYPE=image/jpeg:http://rehobothcentrebeckenham.org.uk/wp-content/uploads/2015/12/Easter-Cross.jpg
ORGANIZER;CN="RCCG%20Inner%20Court":MAILTO:info@innercourt.org.uk
END:VEVENT
BEGIN:VEVENT
DTSTART;TZID=UTC:20171220T190000
DTEND;TZID=UTC:20171220T200000
DTSTAMP:20260424T113505
CREATED:20151213T224453Z
LAST-MODIFIED:20151213T224453Z
UID:22940-1513796400-1513800000@rehobothcentrebeckenham.org.uk
SUMMARY:Bible Study & Prayer Meeting
DESCRIPTION:As the name suggests; our Bible study class is a school studying topical issues from the Bible with relevance to modern Christian living. Foundational and advanced issues are discussed weekly. We also come together to agree in the place of prayer on personal and community issues. We seek the face of God at these meetings and are blessed with mind blowing testimonies.
URL:http://rehobothcentrebeckenham.org.uk/event/bible-study-prayer-meeting-2017-12-20/
LOCATION:HSBC Sports and Social Club\, HSBC Sports and Social Club\, Lennard Road\, Beckenham\, London\, BR3 1QW\, United Kingdom
CATEGORIES:Bible Study,Intercession
ATTACH;FMTTYPE=image/jpeg:http://rehobothcentrebeckenham.org.uk/wp-content/uploads/2015/12/reading-bible.jpg
ORGANIZER;CN="RCCG%20Inner%20Court":MAILTO:info@innercourt.org.uk
END:VEVENT
BEGIN:VEVENT
DTSTART;TZID=UTC:20171217T103000
DTEND;TZID=UTC:20171217T114500
DTSTAMP:20260424T113505
CREATED:20151211T230852Z
LAST-MODIFIED:20151211T230852Z
UID:23076-1513506600-1513511100@rehobothcentrebeckenham.org.uk
SUMMARY:Sunday Service
DESCRIPTION:This service is a wonderful time for everyone to come together in fellowship on a Sunday. It is open to everyone and an awesome opportunity for people to come together as a family to be refreshed in the presence of The Lord for the coming week.
URL:http://rehobothcentrebeckenham.org.uk/event/sunday-service-2017-12-17/
LOCATION:J J Dance Studio\, J J Dance Studio\, 182b High Street\, Beckenham\, London\, BR3 1EW\, United Kingdom
CATEGORIES:School,Sunday Service
ATTACH;FMTTYPE=image/jpeg:http://rehobothcentrebeckenham.org.uk/wp-content/uploads/2015/12/Easter-Cross.jpg
ORGANIZER;CN="RCCG%20Inner%20Court":MAILTO:info@innercourt.org.uk
END:VEVENT
BEGIN:VEVENT
DTSTART;TZID=UTC:20171213T190000
DTEND;TZID=UTC:20171213T200000
DTSTAMP:20260424T113505
CREATED:20151213T224453Z
LAST-MODIFIED:20151213T224453Z
UID:22829-1513191600-1513195200@rehobothcentrebeckenham.org.uk
SUMMARY:Bible Study & Prayer Meeting
DESCRIPTION:As the name suggests; our Bible study class is a school studying topical issues from the Bible with relevance to modern Christian living. Foundational and advanced issues are discussed weekly. We also come together to agree in the place of prayer on personal and community issues. We seek the face of God at these meetings and are blessed with mind blowing testimonies.
URL:http://rehobothcentrebeckenham.org.uk/event/bible-study-prayer-meeting-2017-12-13/
LOCATION:HSBC Sports and Social Club\, HSBC Sports and Social Club\, Lennard Road\, Beckenham\, London\, BR3 1QW\, United Kingdom
CATEGORIES:Bible Study,Intercession
ATTACH;FMTTYPE=image/jpeg:http://rehobothcentrebeckenham.org.uk/wp-content/uploads/2015/12/reading-bible.jpg
ORGANIZER;CN="RCCG%20Inner%20Court":MAILTO:info@innercourt.org.uk
END:VEVENT
BEGIN:VEVENT
DTSTART;TZID=UTC:20171210T103000
DTEND;TZID=UTC:20171210T114500
DTSTAMP:20260424T113505
CREATED:20151211T230852Z
LAST-MODIFIED:20151211T230852Z
UID:23075-1512901800-1512906300@rehobothcentrebeckenham.org.uk
SUMMARY:Sunday Service
DESCRIPTION:This service is a wonderful time for everyone to come together in fellowship on a Sunday. It is open to everyone and an awesome opportunity for people to come together as a family to be refreshed in the presence of The Lord for the coming week.
URL:http://rehobothcentrebeckenham.org.uk/event/sunday-service-2017-12-10/
LOCATION:J J Dance Studio\, J J Dance Studio\, 182b High Street\, Beckenham\, London\, BR3 1EW\, United Kingdom
CATEGORIES:School,Sunday Service
ATTACH;FMTTYPE=image/jpeg:http://rehobothcentrebeckenham.org.uk/wp-content/uploads/2015/12/Easter-Cross.jpg
ORGANIZER;CN="RCCG%20Inner%20Court":MAILTO:info@innercourt.org.uk
END:VEVENT
BEGIN:VEVENT
DTSTART;TZID=UTC:20171206T190000
DTEND;TZID=UTC:20171206T203000
DTSTAMP:20260424T113505
CREATED:20151213T224453Z
LAST-MODIFIED:20210213T144655Z
UID:22824-1512586800-1512592200@rehobothcentrebeckenham.org.uk
SUMMARY:Bible Study & Prayer Meeting
DESCRIPTION:As the name suggests; our Bible study class is a school studying topical issues from the Bible with relevance to modern Christian living. Foundational and advanced issues are discussed weekly. We also come together to agree in the place of prayer on personal and community issues. We seek the face of God at these meetings and are blessed with mind blowing testimonies.
URL:http://rehobothcentrebeckenham.org.uk/event/bible-study-prayer-meeting-2017-12-06/
LOCATION:HSBC Sports and Social Club\, HSBC Sports and Social Club\, Lennard Road\, Beckenham\, London\, BR3 1QW\, United Kingdom
CATEGORIES:Bible Study,Intercession
ATTACH;FMTTYPE=image/jpeg:http://rehobothcentrebeckenham.org.uk/wp-content/uploads/2015/12/reading-bible.jpg
ORGANIZER;CN="RCCG%20Inner%20Court":MAILTO:info@innercourt.org.uk
END:VEVENT
BEGIN:VEVENT
DTSTART;TZID=UTC:20170128T180000
DTEND;TZID=UTC:20170128T200000
DTSTAMP:20260424T113505
CREATED:20170114T113306Z
LAST-MODIFIED:20170114T113306Z
UID:23190-1485626400-1485633600@rehobothcentrebeckenham.org.uk
SUMMARY:Worship Together
DESCRIPTION:
URL:http://rehobothcentrebeckenham.org.uk/event/worship-together/
LOCATION:HSBC Sports and Social Club\, HSBC Sports and Social Club\, Lennard Road\, Beckenham\, London\, BR3 1QW\, United Kingdom
CATEGORIES:Youth Event
ATTACH;FMTTYPE=image/jpeg:http://rehobothcentrebeckenham.org.uk/wp-content/uploads/2017/01/Worship-Together-side-1.jpg
END:VEVENT
BEGIN:VEVENT
DTSTART;TZID=UTC:20161231T220000
DTEND;TZID=UTC:20170101T003000
DTSTAMP:20260424T113505
CREATED:20161230T093036Z
LAST-MODIFIED:20161230T094657Z
UID:23174-1483221600-1483230600@rehobothcentrebeckenham.org.uk
SUMMARY:Crossover Night Praise and Prayers
DESCRIPTION:A watch-night service held late on New Year’s Eve\, and ends after midnight. This provides the opportunity for everyone to review the year that has passed and make confession\, and then prepare for the year ahead by praying and resolving. The services include praise\, worship\, prayer and preaching. \nPlease\, if you need assistance getting to the venue\, please do not hesitate to contact us. \nVenue:\nSt. Paul’s Church\nBrackley Road\nBeckenham\nBR3 1RB\nUnited Kingdom
URL:http://rehobothcentrebeckenham.org.uk/event/crossover-night-praise-and-prayers-2/
LOCATION:St. Paul’s Church (Church of England)\, Brackley Road\, Beckenham\, BR3 1RB\, United Kingdom
CATEGORIES:Special Service
ORGANIZER;CN="RCCG%20Inner%20Court":MAILTO:info@innercourt.org.uk
END:VEVENT
BEGIN:VEVENT
DTSTART;TZID=UTC:20160320T114500
DTEND;TZID=UTC:20160320T121500
DTSTAMP:20260424T113505
CREATED:20160318T180150Z
LAST-MODIFIED:20160318T180150Z
UID:22971-1458474300-1458476100@rehobothcentrebeckenham.org.uk
SUMMARY:Sunday School
DESCRIPTION:Our Sunday School class is a school studying topical issues from the Bible with relevance to modern Christian living. Foundational and advanced issues are discussed weekly.
URL:http://rehobothcentrebeckenham.org.uk/event/sunday-school/
LOCATION:J J Dance Studio\, J J Dance Studio\, 182b High Street\, Beckenham\, London\, BR3 1EW\, United Kingdom
CATEGORIES:Bible Study,School
ATTACH;FMTTYPE=image/jpeg:http://rehobothcentrebeckenham.org.uk/wp-content/uploads/2015/12/reading-bible.jpg
ORGANIZER;CN="RCCG%20Inner%20Court":MAILTO:info@innercourt.org.uk
END:VEVENT
BEGIN:VEVENT
DTSTART;TZID=UTC:20160123T170000
DTEND;TZID=UTC:20160123T190000
DTSTAMP:20260424T113505
CREATED:20151220T204622Z
LAST-MODIFIED:20151220T204622Z
UID:22938-1453568400-1453575600@rehobothcentrebeckenham.org.uk
SUMMARY:Inaugural Service
DESCRIPTION:Inaugural Service\nTHEME: New Begining \nDATE: 23rd January 2016 \nVENUE: HSBC Sports and Social Club Lennard Road\, Beckenham\, Kent\, BR3 1QW \nTIME: 5pm-7pm
URL:http://rehobothcentrebeckenham.org.uk/event/inaugural-service/
LOCATION:HSBC Sports and Social Club\, HSBC Sports and Social Club\, Lennard Road\, Beckenham\, London\, BR3 1QW\, United Kingdom
CATEGORIES:Inaugural Service
ORGANIZER;CN="RCCG%20Inner%20Court":MAILTO:info@innercourt.org.uk
END:VEVENT
BEGIN:VEVENT
DTSTART;TZID=UTC:20151216T190000
DTEND;TZID=UTC:20151216T200000
DTSTAMP:20260424T113505
CREATED:20151213T224453Z
LAST-MODIFIED:20151213T225103Z
UID:22719-1450292400-1450296000@rehobothcentrebeckenham.org.uk
SUMMARY:Bible Study & Prayer Meeting
DESCRIPTION:As the name suggests; our Bible study class is a school studying topical issues from the Bible with relevance to modern Christian living. Foundational and advanced issues are discussed weekly. We also come together to agree in the place of prayer on personal and community issues. We seek the face of God at these meetings and are blessed with mind blowing testimonies.
URL:http://rehobothcentrebeckenham.org.uk/event/bible-study-prayer-meeting/
LOCATION:HSBC Sports and Social Club\, HSBC Sports and Social Club\, Lennard Road\, Beckenham\, London\, BR3 1QW\, United Kingdom
CATEGORIES:Bible Study,Intercession
ATTACH;FMTTYPE=image/jpeg:http://rehobothcentrebeckenham.org.uk/wp-content/uploads/2015/12/reading-bible.jpg
ORGANIZER;CN="RCCG%20Inner%20Court":MAILTO:info@innercourt.org.uk
END:VEVENT
BEGIN:VEVENT
DTSTART;TZID=UTC:20151213T103000
DTEND;TZID=UTC:20151213T114500
DTSTAMP:20260424T113505
CREATED:20151211T230852Z
LAST-MODIFIED:20160318T180718Z
UID:22550-1450002600-1450007100@rehobothcentrebeckenham.org.uk
SUMMARY:Sunday Service
DESCRIPTION:This service is a wonderful time for everyone to come together in fellowship on a Sunday. It is open to everyone and an awesome opportunity for people to come together as a family to be refreshed in the presence of The Lord for the coming week.
URL:http://rehobothcentrebeckenham.org.uk/event/sunday-service/
LOCATION:J J Dance Studio\, J J Dance Studio\, 182b High Street\, Beckenham\, London\, BR3 1EW\, United Kingdom
CATEGORIES:School,Sunday Service
ATTACH;FMTTYPE=image/jpeg:http://rehobothcentrebeckenham.org.uk/wp-content/uploads/2015/12/Easter-Cross.jpg
ORGANIZER;CN="RCCG%20Inner%20Court":MAILTO:info@innercourt.org.uk
END:VEVENT
END:VCALENDAR